BEGIN:VCALENDAR
VERSION:2.0
PRODID:-//Stadtgeschichte München//DE
CALSCALE:GREGORIAN
BEGIN:VEVENT
UID:17449@stadtgeschichte-muenchen.de
SUMMARY:Bayerische Landschaftsbilder in der Entwicklung der europäischen Malerei
DESCRIPTION:
DTSTART:20190721T110000
DTEND:20190721T000000
LOCATION:Residenz München - Eingangshalle Residenzmuseum
ORGANIZER:Bayerische Schlösserverwaltung
END:VEVENT
END:VCALENDAR