BEGIN:VCALENDAR
VERSION:2.0
PRODID:-//Stadtgeschichte München//DE
CALSCALE:GREGORIAN
BEGIN:VEVENT
UID:17451@stadtgeschichte-muenchen.de
SUMMARY:»Das kommt mir spanisch vor!«
DESCRIPTION:
DTSTART:20190728T110000
DTEND:20190728T000000
LOCATION:Residenz München - Eingangshalle Residenzmuseum
ORGANIZER:Bayerische Schlösserverwaltung
END:VEVENT
END:VCALENDAR