BEGIN:VCALENDAR
VERSION:2.0
PRODID:-//Stadtgeschichte München//DE
CALSCALE:GREGORIAN
BEGIN:VEVENT
UID:17457@stadtgeschichte-muenchen.de
SUMMARY:Bauphasen &amp; Raumfluchten
DESCRIPTION:
DTSTART:20190818T130000
DTEND:20190818T000000
LOCATION:Residenz München - Eingangshalle Residenzmuseum
ORGANIZER:Bayerische Schlösserverwaltung
END:VEVENT
END:VCALENDAR