BEGIN:VCALENDAR
VERSION:2.0
PRODID:-//Stadtgeschichte München//DE
CALSCALE:GREGORIAN
BEGIN:VEVENT
UID:17458@stadtgeschichte-muenchen.de
SUMMARY:»Der Glanz der Toilette bei Galatagen ruiniert hier die ganze Welt«
DESCRIPTION:
DTSTART:20190825T110000
DTEND:20190825T000000
LOCATION:Residenz München - Eingangshalle Residenzmuseum
ORGANIZER:Bayerische Schlösserverwaltung
END:VEVENT
END:VCALENDAR