BEGIN:VCALENDAR
VERSION:2.0
PRODID:-//Stadtgeschichte München//DE
CALSCALE:GREGORIAN
BEGIN:VEVENT
UID:17464@stadtgeschichte-muenchen.de
SUMMARY:Hochzeitspolitik, Intrigen und Liebesgeschichten am Wittelsbacher Hof
DESCRIPTION:
DTSTART:20190915T110000
DTEND:20190915T000000
LOCATION:Residenz München - Eingangshalle Residenzmuseum
ORGANIZER:Bayerische Schlösserverwaltung
END:VEVENT
END:VCALENDAR