BEGIN:VCALENDAR
VERSION:2.0
PRODID:-//Stadtgeschichte München//DE
CALSCALE:GREGORIAN
BEGIN:VEVENT
UID:17487@stadtgeschichte-muenchen.de
SUMMARY:Lustvolle Bewunderung
DESCRIPTION:
DTSTART:20191208T130000
DTEND:20191208T000000
LOCATION:Residenz München - Eingangshalle Residenzmuseum
ORGANIZER:Bayerische Schlösserverwaltung
END:VEVENT
END:VCALENDAR