BEGIN:VCALENDAR
VERSION:2.0
PRODID:-//Stadtgeschichte München//DE
CALSCALE:GREGORIAN
BEGIN:VEVENT
UID:1752@stadtgeschichte-muenchen.de
SUMMARY:„München leuchtete
DESCRIPTION:&lt;div&gt;Wundersch&amp;ouml;ne Jugendstil- und Gr&amp;uuml;nderzeitbauten verleihen dem legend&amp;auml;ren Viertel einen einzigartigen Charme, der Ende des 19. Jahrhunderts viele bedeutende K&amp;uuml;nstler und Literaten&amp;nbsp;anlockte. &amp;bdquo;M&amp;uuml;nchen leuchtete&amp;quot; schrieb Thomas Mann, auch &amp;uuml;ber die Architektur jener Zeit, als er noch in der Franz-Joseph-Stra&amp;szlig;e gegen&amp;uuml;ber einigen besonders originellen H&amp;auml;usern&amp;nbsp;des Architekten D&amp;uuml;lfer wohnte. Gebaut wurden damals riesige, bis zu zehn Zimmern gro&amp;szlig;e Wohnungen, die sich allerdings als schwer vermietbar erwiesen. Im &amp;bdquo;ersten Luxusmietshaus&amp;nbsp;von M&amp;uuml;nchen&amp;quot; beim Siegestor gab es bis zu 700 Quadratmeter gro&amp;szlig;e Wohnungen. In einer davon wurde der &amp;bdquo;Inselverlag&amp;quot; gegr&amp;uuml;ndet der gro&amp;szlig;en Einfluss auf die Jugendstilgraphik jener&amp;nbsp;Zeit hatte.&lt;/div&gt;
DTSTART:20120825T140000
DTEND:20120825T160000
LOCATION:U-Bahnstation Giselastraße (U3/6), Ausgang Gisela-/Leopoldstraße
ORGANIZER:DGB-Bildungswerk Bayern e.V. Region München
END:VEVENT
END:VCALENDAR