BEGIN:VCALENDAR
VERSION:2.0
PRODID:-//Stadtgeschichte München//DE
CALSCALE:GREGORIAN
BEGIN:VEVENT
UID:17559@stadtgeschichte-muenchen.de
SUMMARY:Schloss Nymphenburg
DESCRIPTION:&lt;p&gt;Die Hochzeit von Kurprinz und späterem Kaiser Karl Albrecht mit Erzherzogin Maria Amalia wurde 1722 auch in Nymphenburg festlich gefeiert.&lt;/p&gt; &lt;p&gt;Im Rahmen der Frühlings-Kampagne von München Tourismus zum Thema »Licht, Innovation und Kreativität«&lt;/p&gt; 
DTSTART:20190507T163000
DTEND:20190507T000000
LOCATION:Schloss Nymphenburg - Haupteingang
ORGANIZER:Bayerische Schlösserverwaltung
END:VEVENT
END:VCALENDAR