BEGIN:VCALENDAR
VERSION:2.0
PRODID:-//Stadtgeschichte München//DE
CALSCALE:GREGORIAN
BEGIN:VEVENT
UID:1757@stadtgeschichte-muenchen.de
SUMMARY:Auf den Spuren der Wittelsbacher
DESCRIPTION:&lt;div&gt;Die Wittelsbacher haben Jahrhunderte lang in M&amp;uuml;nchen regiert und in der der Stadt und auch im Umland uns viele Bauwerke hinterlassen. Wir fahren auf unserer Radtour u. a. zur Fasanerie, zu den Schl&amp;ouml;ssern Blutenburg und Nymphenburg sowie zum Hirschgarten. Weiter begleiten wir den Nymphenburg-Biedersteiner Kanal, einen k&amp;uuml;nstlichen 300 Jahre alten Wasserlauf. Schlie&amp;szlig;lich erreichen wir Schlei&amp;szlig;heim mit seinen 3 Schl&amp;ouml;ssern, wo die Tour endet. Auf dem Weg werden wir einiges &amp;uuml;ber die Wittelsbacher und ihre Bauten Bauwerke und Parks erfahren.&lt;/div&gt; &lt;div&gt;&amp;nbsp;&lt;/div&gt; &lt;div&gt;mit Mittagseinkehr&lt;/div&gt;
DTSTART:20120715T110000
DTEND:20120715T170000
LOCATION:Moosach, Nordseite Memminger- platz (S1) 
ORGANIZER:DGB-Bildungswerk Bayern e.V. Region München
END:VEVENT
END:VCALENDAR