BEGIN:VCALENDAR
VERSION:2.0
PRODID:-//Stadtgeschichte München//DE
CALSCALE:GREGORIAN
BEGIN:VEVENT
UID:17609@stadtgeschichte-muenchen.de
SUMMARY:Königliche Hoheiten bitten zu Tisch!
DESCRIPTION:&lt;p&gt;Kuratorenführung&lt;/p&gt; 
DTSTART:20190903T163000
DTEND:20190903T000000
LOCATION:Eingang Marstallmuseum (Schloss Nymphenburg)
ORGANIZER:Bayerische Schlösserverwaltung
END:VEVENT
END:VCALENDAR