BEGIN:VCALENDAR
VERSION:2.0
PRODID:-//Stadtgeschichte München//DE
CALSCALE:GREGORIAN
BEGIN:VEVENT
UID:17617@stadtgeschichte-muenchen.de
SUMMARY:Nordic Walking durch den Schlosspark
DESCRIPTION:
DTSTART:20190924T163000
DTEND:20190924T000000
LOCATION:Haupteingang Schloss Nymphenburg
ORGANIZER:Bayerische Schlösserverwaltung
END:VEVENT
END:VCALENDAR