BEGIN:VCALENDAR
VERSION:2.0
PRODID:-//Stadtgeschichte München//DE
CALSCALE:GREGORIAN
BEGIN:VEVENT
UID:1762@stadtgeschichte-muenchen.de
SUMMARY:Kultour und Architektour durch die Schwanthalerhöhe
DESCRIPTION:&lt;div&gt;Der historische Kern des Viertels wurde in der Zeit vom letzten Drittel der 19. bis in die Zwanziger Jahre des 20. Jahrhunderts erbaut. Die Kunstwissenschaft bezeichnet die Stilarten dieses Zeitraumes als &amp;bdquo;Historismus&amp;quot;, &amp;bdquo;Jugendstil&amp;quot; und &amp;bdquo;Neue Sachlichkeit&amp;quot;. Alle diese Stilarten sind im Stadtteil vertreten - insbesondere zahlreiche Bauten aus dem 19. Jahrhundert. Unter &amp;bdquo;Historismus&amp;quot; versteht man den R&amp;uuml;ckgriff auf Stile und K&amp;uuml;nstler vorausgegangener Zeiten. Seine Architektur fu&amp;szlig;t weit&amp;not;gehend auf der Nach- oder Umformung vergangener Stile. &amp;Uuml;ber 300 denkmalgesch&amp;uuml;tzte H&amp;auml;user und Ensembles sind in der Denkmalliste der Landeshauptstadt verzeichnet. Die F&amp;uuml;lle oder auch Sparsamkeit der architektonischen Gliederung, der S&amp;auml;ulen und Pilaster, der Rahmungen, Putzgliederungen und Ornamente gibt dem Stadtviertel dank der bewahrten historischen Kontinuit&amp;auml;t ein unverwechselbares Gepr&amp;auml;ge. Eine F&amp;uuml;hrung durch das Viertel gleicht daher einem Spaziergang durch die verschiedensten Stilepochen der Architekturgeschichte. F&amp;uuml;hrende Architekten der damaligen Zeit sind mit charakteristischen Bauten ver&amp;not;treten, u. a. Gabriel von Seidl, Georg von Hauberrisser, Theodor Fischer, German Bestelmeyer, Carl Hocheder. Bauten in sp&amp;auml;tklassizistischer Tradition, in den Stilarten der Neuromanik, der Neurenaissance, des Neubarock, des Jugendstils, der Neuen Sachlichkeit und barockisierende Wohnanlagen reihen sich aneinander. Viele von ihnen wurden in den letzten Jahrzehnten saniert. Ihre Fassaden erstrahlen im alten Glanz. Wir starten an der denkmalgesch&amp;uuml;tzten, 1983/84 sanierten Hackerbr&amp;uuml;cke. Passieren das moderne Kunstwerk von Hansj&amp;ouml;rg Voth &amp;bdquo;Zwischensonnentor und Mondplatz&amp;quot; und erreichen dann unser Zielgebiet.&lt;/div&gt;
DTSTART:20120826T150000
DTEND:20120826T180000
LOCATION:S-Bahnstation Hackerbrücke
ORGANIZER:DGB-Bildungswerk Bayern e.V. Region München
END:VEVENT
END:VCALENDAR