BEGIN:VCALENDAR
VERSION:2.0
PRODID:-//Stadtgeschichte München//DE
CALSCALE:GREGORIAN
BEGIN:VEVENT
UID:17628@stadtgeschichte-muenchen.de
SUMMARY:Max Emanuel als Feldherr
DESCRIPTION:
DTSTART:20190616T140000
DTEND:20190616T000000
LOCATION:Neues Schloss Schleißheim - Kasse
ORGANIZER:Bayerische Schlösserverwaltung
END:VEVENT
END:VCALENDAR