BEGIN:VCALENDAR
VERSION:2.0
PRODID:-//Stadtgeschichte München//DE
CALSCALE:GREGORIAN
BEGIN:VEVENT
UID:17631@stadtgeschichte-muenchen.de
SUMMARY:Die Wittelsbacher im Porträt
DESCRIPTION:
DTSTART:20190721T140000
DTEND:20190721T000000
LOCATION:Neues Schloss Schleißheim - Kasse
ORGANIZER:Bayerische Schlösserverwaltung
END:VEVENT
END:VCALENDAR