BEGIN:VCALENDAR
VERSION:2.0
PRODID:-//Stadtgeschichte München//DE
CALSCALE:GREGORIAN
BEGIN:VEVENT
UID:17639@stadtgeschichte-muenchen.de
SUMMARY:Heroisch!
DESCRIPTION:&lt;p&gt;Festes Schuhwerk erforderlich | Der Führungsweg ist nicht barrierefrei&lt;/p&gt; 
DTSTART:20190915T140000
DTEND:20190915T000000
LOCATION:Neues Schloss Schleißheim - Kasse
ORGANIZER:Bayerische Schlösserverwaltung
END:VEVENT
END:VCALENDAR