BEGIN:VCALENDAR
VERSION:2.0
PRODID:-//Stadtgeschichte München//DE
CALSCALE:GREGORIAN
BEGIN:VEVENT
UID:17646@stadtgeschichte-muenchen.de
SUMMARY:Lichtblicke zu Weihnachten
DESCRIPTION:
DTSTART:20191222T140000
DTEND:20191222T000000
LOCATION:Neues Schloss Schleißheim - Kasse
ORGANIZER:Bayerische Schlösserverwaltung
END:VEVENT
END:VCALENDAR