BEGIN:VCALENDAR
VERSION:2.0
PRODID:-//Stadtgeschichte München//DE
CALSCALE:GREGORIAN
BEGIN:VEVENT
UID:17656@stadtgeschichte-muenchen.de
SUMMARY:Vom Ende der Räteherrschaft und dem Einmarsch der Weißen Truppen
DESCRIPTION:
DTSTART:20190411T180000
DTEND:20190411T203000
LOCATION:KiM-Kino * Einsteinstraße 42 * München-Haidhausen
ORGANIZER:Münchner Zeitensprünge
END:VEVENT
END:VCALENDAR