BEGIN:VCALENDAR
VERSION:2.0
PRODID:-//Stadtgeschichte München//DE
CALSCALE:GREGORIAN
BEGIN:VEVENT
UID:17658@stadtgeschichte-muenchen.de
SUMMARY:Halbjahres-Rückblick
DESCRIPTION:
DTSTART:20190616T110000
DTEND:20190616T130000
LOCATION:KiM-Kino * Einsteinstraße 42 * München-Haidhausen
ORGANIZER:Münchner Zeitensprünge
END:VEVENT
END:VCALENDAR