BEGIN:VCALENDAR
VERSION:2.0
PRODID:-//Stadtgeschichte München//DE
CALSCALE:GREGORIAN
BEGIN:VEVENT
UID:17662@stadtgeschichte-muenchen.de
SUMMARY:Das Hotel Deutsche Eiche
DESCRIPTION:
DTSTART:20190913T093000
DTEND:20190913T123000
LOCATION:Hotel Deutsche Eiche * Reichenbachstraße 13 * München-Isarvorstadt
ORGANIZER:Münchner Zeitensprünge
END:VEVENT
END:VCALENDAR