BEGIN:VCALENDAR
VERSION:2.0
PRODID:-//Stadtgeschichte München//DE
CALSCALE:GREGORIAN
BEGIN:VEVENT
UID:17667@stadtgeschichte-muenchen.de
SUMMARY:Der Auer-Mühlbach (Teil Nord)
DESCRIPTION:
DTSTART:20190530T110000
DTEND:20190530T133000
LOCATION:Kolumbusplatz * vor ASZ Kolumbusstraße 33
ORGANIZER:Münchner Zeitensprünge
END:VEVENT
END:VCALENDAR