BEGIN:VCALENDAR
VERSION:2.0
PRODID:-//Stadtgeschichte München//DE
CALSCALE:GREGORIAN
BEGIN:VEVENT
UID:17668@stadtgeschichte-muenchen.de
SUMMARY:Der Englische Garten
DESCRIPTION:
DTSTART:20190610T110000
DTEND:20190610T133000
LOCATION:Prinz-Carl-Palais * Franz-Josef-Strauß-Ring 5
ORGANIZER:Münchner Zeitensprünge
END:VEVENT
END:VCALENDAR