BEGIN:VCALENDAR
VERSION:2.0
PRODID:-//Stadtgeschichte München//DE
CALSCALE:GREGORIAN
BEGIN:VEVENT
UID:17669@stadtgeschichte-muenchen.de
SUMMARY:Das Lehel * Münchens älteste Vorstadt
DESCRIPTION:
DTSTART:20190620T110000
DTEND:20190620T133000
LOCATION:Unter dem Bogen des Isartors
ORGANIZER:Münchner Zeitensprünge
END:VEVENT
END:VCALENDAR