BEGIN:VCALENDAR
VERSION:2.0
PRODID:-//Stadtgeschichte München//DE
CALSCALE:GREGORIAN
BEGIN:VEVENT
UID:17673@stadtgeschichte-muenchen.de
SUMMARY:Bogenhausen
DESCRIPTION:
DTSTART:20191012T110000
DTEND:20191012T133000
LOCATION:Bundesfinanzhof * Ismaninger Straße 109 * München-Bogenhausen
ORGANIZER:Münchner Zeitensprünge
END:VEVENT
END:VCALENDAR