BEGIN:VCALENDAR
VERSION:2.0
PRODID:-//Stadtgeschichte München//DE
CALSCALE:GREGORIAN
BEGIN:VEVENT
UID:17721@stadtgeschichte-muenchen.de
SUMMARY:Spaziergang durch den Westfriedhof - in die Dämmerung hinein
DESCRIPTION:&lt;p&gt;Der Westfriedhof ist einer der fünf wichtigsten Bauten des Architekten Hans Grassel. Der Friedhof entstand Anfang des 20. Jahrhunderts und bedeutete zusammen mit der Schaffung des Nord-, Ost- und Waldfriedhofs einen Meilenstein in der Europäischen Friedhofsarchitektur. In den 1920er Jahren wurde der „NeueTeil&quot; ausgebaut. Heute umfasst der Westfriedhof nach mehreren Erweiterungen rund 41.000 Grabplätze. Markante Orte im Friedhof sind die Krypta, der „Steinkreis&quot; die Mosaikgärten sowie die Gedenkanlage für Kinder und Föten.&lt;/p&gt; 
DTSTART:20190913T190000
DTEND:20190913T210000
LOCATION:Haupteingang Aussegnungshalle, Baldurstraße 28
ORGANIZER:Städtische Friedhöfe München
END:VEVENT
END:VCALENDAR