BEGIN:VCALENDAR
VERSION:2.0
PRODID:-//Stadtgeschichte München//DE
CALSCALE:GREGORIAN
BEGIN:VEVENT
UID:17736@stadtgeschichte-muenchen.de
SUMMARY:Gedenkfeier für die Bombenopfer Münchens
DESCRIPTION:&lt;p&gt;Der Volksbund Deutsche Kriegsgräberfürsorge e.V. führt diese Feier in Zusammenarbeit mit der Landeshauptstadt München durch. Es wird der Bombenopfer Münchens, der bei der Brandbekämpfung und Rettung ums Leben gekommenen Rettungs- und Hilfskräfte, aber auch der Bombenopfer unserer Tage gedacht. Die Feier wird von Geistlichen der evangelischen und katholischen Kirche mitgestaltet und von einem Posaunenchor umrahmt. Zum Abschluss der Veranstaltung wird an die in diesem Hain ruhenden Luftkriegstoten erinnert, indem Gedenkkerzen entzündet und auf die einzelnen Gräber gestellt werden.&lt;/p&gt; &lt;p&gt;Veranstalter: Volksbund Deutsche Kriegsgräberfürsorge e.V.&lt;/p&gt; 
DTSTART:20191101T160000
DTEND:20191101T000000
LOCATION:Nordfriedhof, Ehrenhain für die Lüftkriegsopfer, Ungererstraße 130
ORGANIZER:
END:VEVENT
END:VCALENDAR