BEGIN:VCALENDAR
VERSION:2.0
PRODID:-//Stadtgeschichte München//DE
CALSCALE:GREGORIAN
BEGIN:VEVENT
UID:1776@stadtgeschichte-muenchen.de
SUMMARY:Radltour zu alten Bäumen
DESCRIPTION:&lt;p&gt;Auf beschaulichen Wegen von Fürstenfeldbruck nach Dachau finden sich noch uralte, beeindruckende Baumveteranen wie z. B. die mehr als 1000-jährige Linde in Puch oder die über 700 Jahre zählende Eiche in Eisolzried. Dauer bis ca. 16 Uhr mit Einkehrmöglichkeit mittags, Streckenlänge ca. 35 km.&lt;/p&gt; &lt;p&gt;(Rückfahrt nach München vom S-Bahnhof Dachau aus!) - Kooperation mit LBV&lt;/p&gt; 
DTSTART:20120825T090000
DTEND:20120825T160000
LOCATION:S-Bahnhof Fürstenfeldbruck 
ORGANIZER:DGB-Bildungswerk Bayern e.V. Region München
END:VEVENT
END:VCALENDAR