BEGIN:VCALENDAR
VERSION:2.0
PRODID:-//Stadtgeschichte München//DE
CALSCALE:GREGORIAN
BEGIN:VEVENT
UID:1780@stadtgeschichte-muenchen.de
SUMMARY:Das Fernsehstudio Unterföhring
DESCRIPTION:&lt;p&gt;Das Fernsehstudio Unterf&amp;ouml;hring ist neben dem Sitz der Ausstattung unter anderem auch die Produktionsst&amp;auml;tte f&amp;uuml;r Fernsehspiele und Shows. Der BR startet die Tour mit einer Einf&amp;uuml;hrung &amp;uuml;ber den Bayerischen Rundfunk und den &amp;ouml;ffentlich-rechtlichen Rundfunk allgemein. In den Fernsehstudios und Regier&amp;auml;umen erfahren Sie N&amp;auml;heres &amp;uuml;ber den Ablauf einer Fernsehproduktion, &amp;uuml;ber die Technik und die Menschen, die vor, w&amp;auml;hrend und nach der Produktion t&amp;auml;tig sind. Neben dem Requisitenfundus besichtigen Sie auch die Bauhallen und Werkst&amp;auml;tten wie Schreinerei, Schlosserei, Malerei und Dekowerkstatt. Dort fertigen die Kolleginnen und Kollegen der Ausstattung die Szenenbilder und Dekorationen aller Fernsehproduktionen.&lt;/p&gt;
DTSTART:20120320T170000
DTEND:20120320T183000
LOCATION:Rivastr. 1 885774 Unterföhring S-Bahn 8
ORGANIZER:DGB-Bildungswerk Bayern e.V. Region München
END:VEVENT
END:VCALENDAR