BEGIN:VCALENDAR
VERSION:2.0
PRODID:-//Stadtgeschichte München//DE
CALSCALE:GREGORIAN
BEGIN:VEVENT
UID:17822@stadtgeschichte-muenchen.de
SUMMARY:Michael von Faulhaber (1869-1952)
DESCRIPTION:&lt;p&gt;9. Sommerakademie Sankt Bonifaz 2019&lt;br /&gt; ​Katholische Profile der Weimarer Republik in Bayern: Gestalten und Probleme&lt;/p&gt; &lt;p&gt;Thomas Schütte M.A., M.A., arbeitet an einer Dissertation zum Thema &lt;em&gt;Michael Kardinal Faulhaber in der bayerischen Politik 1918-1933 &lt;/em&gt;und und ist seit 2015 Wissenschaftlicher Mitarbeiter im DFG-Projekt Kritische Online-Edition der Tagebücher von Michael Kardinal von Faulhaber (1911-1952).&lt;/p&gt; 
DTSTART:20190702T200000
DTEND:20190702T000000
LOCATION:Benediktinerabtei St. Bonifaz München, Karlstraße 34
ORGANIZER:Benediktinerabtei St. Bonifatz
END:VEVENT
END:VCALENDAR