BEGIN:VCALENDAR
VERSION:2.0
PRODID:-//Stadtgeschichte München//DE
CALSCALE:GREGORIAN
BEGIN:VEVENT
UID:1786@stadtgeschichte-muenchen.de
SUMMARY:Freising - Weihenstephan
DESCRIPTION:&lt;div&gt;Freisings Domberg war f&amp;uuml;r ein Jahrtausend der geistliche und weltliche Mittelpunkt Altbayerns. Wir widmen diesen Tag den reichen kunst- und kulturhistorischen Sch&amp;auml;tzen dieser Stadt, die heute im Schatten der gro&amp;szlig;en Schwester M&amp;uuml;nchen steht.&lt;/div&gt; &lt;div&gt;&amp;nbsp;&lt;/div&gt; &lt;div&gt;Vormittags besuchen wir zun&amp;auml;chst den Dom St. Maria und Korbinian, dessen Anf&amp;auml;nge im 8. Jh. liegen, der in der Barockzeit sein heutiges Stuckgewand und die Ausstattung bekam und an dem die gr&amp;ouml;&amp;szlig;ten K&amp;uuml;nstler ihrer Zeit mitarbeiteten. Nach dem Besuch der Krypta erfolgt ein Rundgang durch das Di&amp;ouml;zesanmuseum. Dieses Schatzhaus der bayerischen Kunstgeschichte beeindruckt durch seine reichhaltige Sammlung, byzantinische Arbeiten sind hier ebenso zu bewundern wie Salzburger oder M&amp;uuml;nchner K&amp;uuml;nstler.&lt;/div&gt; &lt;div&gt;&amp;nbsp;&lt;/div&gt; &lt;div&gt;Nach der Mittagspause in der Stadt erfolgt ein Rundgang durch die sog. Untere Stadt mit ansehnlichen B&amp;uuml;rgerh&amp;auml;usern und der Stadtpfarrkirche St. Georg. Als Besonderheit erwartet uns eine Sonderf&amp;uuml;hrung durch den renommierten Staudengarten von Weihenstephan.&lt;/div&gt; &lt;div&gt;&amp;nbsp;&lt;/div&gt; &lt;div&gt;Abfahrt:&lt;span class=&quot;Apple-tab-span&quot; style=&quot;white-space:pre&quot;&gt; &lt;/span&gt;S-Bahnhof Haar&amp;nbsp;um 08.00 Uhr&lt;br /&gt; M&amp;uuml;nchen Hbf. Nordseite, Arnulfstr. um 08.45 Uhr &lt;br /&gt; Ankunft:&lt;span class=&quot;Apple-tab-span&quot; style=&quot;white-space:pre&quot;&gt; &lt;/span&gt;ca. 19.00 Uhr Hbf. / Haar&lt;/div&gt; &lt;div&gt;&amp;nbsp;&lt;/div&gt; &lt;div&gt;Busunternehmen: Ettenhuber&amp;nbsp;&lt;/div&gt; &lt;p&gt;(* Im Preis enthalten: Busfahrt, Reiseleitung und kunsthistorische F&amp;uuml;hrungen - zus&amp;auml;tzlich fallen &amp;euro; 3. &amp;mdash; f&amp;uuml;r die Sonderf&amp;uuml;hrung durch den Staudengarten in Weihenstephan an.)&amp;nbsp;&lt;/p&gt;
DTSTART:20120620T080000
DTEND:20120620T190000
LOCATION:Abfahrt:	S-Bahnhof Haar	um 08.00 Uhr / München Hbf. Nordseite, Arnulfstr. um 08.45 Uhr
ORGANIZER:Kult Tours  Kunstmatineen In München
END:VEVENT
END:VCALENDAR