BEGIN:VCALENDAR
VERSION:2.0
PRODID:-//Stadtgeschichte München//DE
CALSCALE:GREGORIAN
BEGIN:VEVENT
UID:1787@stadtgeschichte-muenchen.de
SUMMARY:Innklöster II: Mühldorf und Altötting
DESCRIPTION:&lt;div&gt;Genau genommen f&amp;uuml;hrt die erste Station unserer Innreise II in historisches Ausland. Seit dem Mittelalter war M&amp;uuml;hldorf, in einer Innschleife angelegt, unter Salzburger Oberhoheit. Die F&amp;uuml;rsterzbisch&amp;ouml;fe wussten schon, warum ihnen dieser Besitz wertvoll war. Den Vormittag verbringen wir mit der Besichtigung dieser eindrucksvollen Stadt mit ansehnlichen B&amp;uuml;rgerh&amp;auml;usern, respektablen Resten der Stadtbefestigung und einer reich ausgestatteten Stadtpfarrkirche.&lt;/div&gt; &lt;div&gt;&amp;nbsp;&lt;/div&gt; &lt;div&gt;Anschlie&amp;szlig;end Weiterfahrt nach Alt&amp;ouml;tting. Hier erfolgt nach einer st&amp;auml;rkenden Mittagspause die Besichtigung dieses wichtigen bayerischen Wallfahrtsortes: Kapellplatz mit Gnadenkapelle - hier ruhen die Herzen der Bayer. K&amp;ouml;nige -Stiftskirche St. Philipp und Jakob, Schatzkammer, ehemalige Jesuitenkirche mit einem wunderbaren Panorama. Nach diesem Rundgang sind Ihnen &amp;bdquo;Goldenes R&amp;ouml;ssl&amp;quot; und &amp;bdquo;Tod von Erding&amp;quot; keine Fremdw&amp;ouml;rter mehr.&lt;/div&gt; &lt;div&gt;&amp;nbsp;&lt;/div&gt; &lt;div&gt;Abfahrt:&lt;span class=&quot;Apple-tab-span&quot; style=&quot;white-space:pre&quot;&gt; &lt;/span&gt;M&amp;uuml;nchen Hbf. Nordseite, Arnulfstr. um 08.00 Uhr&lt;/div&gt; &lt;div&gt;S-Bahnhof Haar&lt;span class=&quot;Apple-tab-span&quot; style=&quot;white-space:pre&quot;&gt; &lt;/span&gt;um 08.45 Uhr&lt;/div&gt; &lt;div&gt;Ankunft:&lt;span class=&quot;Apple-tab-span&quot; style=&quot;white-space:pre&quot;&gt; &lt;/span&gt;ca. 19.00 Uhr Haar / Hbf.&lt;/div&gt; &lt;div&gt;&amp;nbsp;&lt;/div&gt; &lt;div&gt;Busunternehmen: Ettenhuber&lt;/div&gt; &lt;div&gt;&amp;nbsp;&lt;/div&gt; &lt;div&gt;(* Im Preis enthalten: Busfahrt, Reiseleitung und kunsthistorische F&amp;uuml;hrungen)&lt;/div&gt;
DTSTART:20120717T080000
DTEND:20120717T190000
LOCATION:Abfahrt:	S-Bahnhof Haar	um 08.00 Uhr / München Hbf. Nordseite, Arnulfstr. um 08.45 Uhr
ORGANIZER:Kult Tours  Kunstmatineen In München
END:VEVENT
END:VCALENDAR