BEGIN:VCALENDAR
VERSION:2.0
PRODID:-//Stadtgeschichte München//DE
CALSCALE:GREGORIAN
BEGIN:VEVENT
UID:17918@stadtgeschichte-muenchen.de
SUMMARY:Bayerns Königinnen und der Münchner Hof
DESCRIPTION:&lt;p&gt;Karoline von Baden (1776-1841) heiratete am 9. März 1797 den um zwanzig Jahre älteren, verwitweten Kurfürsten Max IV. Joseph von Bayern. Ihr Leben am Münchner Hof sowie das von Therese von Sachsen-Hildburghausen (1792-1854), der Gemahlin von König Ludwig I., stehen im Mittelpunkt der kulturhistorischen Führung.&lt;/p&gt; &lt;p&gt;Konservatorenführung mit&amp;nbsp;Dr. Astrid Scherp-Langen&lt;/p&gt; 
DTSTART:20190623T110000
DTEND:20190623T000000
LOCATION:Bayerisches Nationalmuseum Kassenraum
ORGANIZER:Bayerisches Nationalmuseum
END:VEVENT
END:VCALENDAR