BEGIN:VCALENDAR
VERSION:2.0
PRODID:-//Stadtgeschichte München//DE
CALSCALE:GREGORIAN
BEGIN:VEVENT
UID:17928@stadtgeschichte-muenchen.de
SUMMARY:Geteilte Welten
DESCRIPTION:&lt;p&gt;Buchvorstellung und Gespräch mit Dr. Susann Lewerenz&lt;/p&gt; &lt;p&gt;Bis weit in das 20. Jahrhundert hinein war das Unterhaltungsgewerbe einer der wenigen Bereiche, in denen Angehörige der kleinen Minderheit von People of Color in Deutschland Arbeit fanden – und zwar nicht trotz, sondern vielmehr gerade wegen der auf sie gerichteten rassifizierenden und exotisierenden Zuschreibungen. In ihrer Ende 2017 im Böhlau Verlag erschienenen Dissertation untersucht Dr. Susann Lewerenz, in welcher Weise sich die politischen und gesellschaftlichen Umbrüche des 20. Jahrhunderts auf die Lebens- und Arbeitsbedingungen sowie die Präsentationsstrategien von Artist_innen of Color im Zirkus, Varieté und Schaustellergewerbe in Deutschland niederschlugen. In der dialogischen Buchvorstellung wird Dr. Susann Lewerenz dieser Frage anhand verschiedener Beispiele aus der Münchner Unterhaltungskultur nachgehen. Ein besonderer Schwerpunkt liegt dabei auf der Zeit des Nationalsozialismus: Welche Handlungsspielräume blieben Unterhaltungskünstler_innen of Color angesichts der zunehmenden rassistischen Ausgrenzung und Verfolgung von Menschen, die das NS-Regime als „artfremd“ ansah?&lt;/p&gt; &lt;p&gt;&lt;strong&gt;Moderation:&lt;/strong&gt;&lt;br /&gt; Betiel Berhe und Sandrine Kunis, Diversity-Trainerinnen, Initiative Schwarze Menschen in Deutschland e.V.&lt;/p&gt; &lt;p&gt;&lt;strong&gt;Aktuelle künstlerische Positionen:&lt;/strong&gt;&lt;br /&gt; Christiane Della, Kunstpädagogin, Mitglied der Initiative Schwarzer Menschen in Deutschland&lt;br /&gt; Sándor Klunker, Designer, Berater und Trainer für Interkulturelle Öffnung&lt;br /&gt; Sarah Bergh, Pädagogin und Kulturvermittlerin&lt;br /&gt; Prisca Mbawla, Musikerin, Mitglied des Ensembles &quot;ViVace piu&quot;&lt;br /&gt; Manuel Ricardo Garcia, queer FTM of color, Trans*activist &amp;amp; photoartist&lt;br /&gt; Mduduzi Khumalo, Global (un-)learning artist&lt;/p&gt; 
DTSTART:20190710T180000
DTEND:20190710T000000
LOCATION:Saal des Münchner Stadtmuseums
ORGANIZER:Münchner Stadtmuseum
END:VEVENT
END:VCALENDAR