BEGIN:VCALENDAR
VERSION:2.0
PRODID:-//Stadtgeschichte München//DE
CALSCALE:GREGORIAN
BEGIN:VEVENT
UID:1793@stadtgeschichte-muenchen.de
SUMMARY:Führung durch die Bayerische Staatsoper
DESCRIPTION:&lt;p&gt;Die F&amp;uuml;hrung beginnt in den unteren Foyerr&amp;auml;umen mit der Bau- und Entwicklungsgeschichte der M&amp;uuml;nchner Oper. Es folgen die oberen Stockwerke (Ionischer Saal, K&amp;ouml;nigssaal und Loge). Danach erfahren und sehen sie alles &amp;uuml;ber die Dinge, die hinter der B&amp;uuml;hne ablaufen und die eine Vorstellung erst m&amp;ouml;glich machen. Sie werden nicht nur &amp;uuml;ber die Soffleusenk&amp;auml;sten staunen!&lt;/p&gt;
DTSTART:20120309T140000
DTEND:20120309T151500
LOCATION:Nationaltheater, Eingang Marstallplatz 
ORGANIZER:DGB-Bildungswerk Bayern e.V. Region München
END:VEVENT
END:VCALENDAR