BEGIN:VCALENDAR
VERSION:2.0
PRODID:-//Stadtgeschichte München//DE
CALSCALE:GREGORIAN
BEGIN:VEVENT
UID:17945@stadtgeschichte-muenchen.de
SUMMARY:Innovative Mobilitätskonzepte für München
DESCRIPTION:&lt;p&gt;Wachstum, Klimawandel und zunehmende Flächenknappheit stellen die Stadtentwicklung vor große Herausforderungen. Wie die Mobilität der Zukunft aussehen soll, wird somit eine der drängendsten Fragen der Gesellschaft. Das Projekt &quot;City2Share&quot; ist ein &quot;Reallabor&quot;, das u.a. am Zenettiplatz in der Isarvorstadt beispielhaft vielversprechende neue Mobilitätsansätze und Technologien erprobt und aufzeigt, wie gleichzeitig die Aufenthaltsqualität im öffentlichen Raum gesteigert werden kann.&lt;/p&gt; 
DTSTART:20191009T170000
DTEND:20191009T180000
LOCATION:wird mitgeteilt
ORGANIZER:MVHS München Mitte   
END:VEVENT
END:VCALENDAR