BEGIN:VCALENDAR
VERSION:2.0
PRODID:-//Stadtgeschichte München//DE
CALSCALE:GREGORIAN
BEGIN:VEVENT
UID:17949@stadtgeschichte-muenchen.de
SUMMARY:Monumente der Macht
DESCRIPTION:Das Haus der Kunst gehört zu den umstrittensten Gebäuden in München. Als eines der ersten großen Prestigeprojekte des Nationalsozialismus wird seine Architektur immer wieder kontrovers diskutiert. Von guter Museumsarchitektur bis hin zur Kritik der Vernachlässigung des schwierigen historischen Erbes reichen die Meinungen über die Ausstellungshalle, die nicht zuletzt durch ihren geplanten Umbau im Fokus steht. Inwieweit spiegeln sich politische Ideen in der architektonischen Formensprache? Welchen Eindruck hinterlässt das Gebäude beim Betrachter? Treffpunkt: vor dem Haupteingang Haus der KunstDas Haus der Kunst gehört zu den umstrittensten Gebäuden in München. Als eines der ersten großen Prestigeprojekte des Nationalsozialismus wird seine Architektur immer wieder kontrovers diskutiert. Von guter Museumsarchitektur bis hin zur Kritik der Vernachlässigung des schwierigen historischen Erbes reichen die Meinungen über die Ausstellungshalle, die nicht zuletzt durch ihren geplanten Umbau im Fokus steht. Inwieweit spiegeln sich politische Ideen in der architektonischen Formensprache? Welchen Eindruck hinterlässt das Gebäude beim Betrachter? Treffpunkt: vor dem Haupteingang Haus der KunstDas Haus der Kunst gehört zu den umstrittensten Gebäuden in München. Als eines der ersten großen Prestigeprojekte des Nationalsozialismus wird seine Architektur immer wieder kontrovers diskutiert. Von guter Museumsarchitektur bis hin zur Kritik der Vernachlässigung des schwierigen historischen Erbes reichen die Meinungen über die Ausstellungshalle, die nicht zuletzt durch ihren geplanten Umbau im Fokus steht. Inwieweit spiegeln sich politische Ideen in der architektonischen Formensprache? Welchen Eindruck hinterlässt das Gebäude beim Betrachter? Treffpunkt: vor dem Haupteingang Haus der KunstDas Haus der Kunst gehört zu den umstrittensten Gebäuden in München. Als eines der ersten großen Prestigeprojekte des Nationalsozialismus wird seine Architektur immer wieder kontrovers diskutiert. Von guter Museumsarchitektur bis hin zur Kritik der Vernachlässigung des schwierigen historischen Erbes reichen die Meinungen über die Ausstellungshalle, die nicht zuletzt durch ihren geplanten Umbau im Fokus steht. Inwieweit spiegeln sich politische Ideen in der architektonischen Formensprache? Welchen Eindruck hinterlässt das Gebäude beim Betrachter? Treffpunkt: vor dem Haupteingang Haus der Kunst
DTSTART:20191012T150000
DTEND:20191012T163000
LOCATION:vor dem Haus der Kunst, Prinzregentenstr. 1
ORGANIZER:MVHS München Mitte   
END:VEVENT
END:VCALENDAR