BEGIN:VCALENDAR
VERSION:2.0
PRODID:-//Stadtgeschichte München//DE
CALSCALE:GREGORIAN
BEGIN:VEVENT
UID:17968@stadtgeschichte-muenchen.de
SUMMARY:Zu Gast im Amerikahaus
DESCRIPTION:&lt;p&gt;Nach dem Zweiten Weltkrieg riefen US-Amerikaner, zur &quot;re-education&quot; der Deutschen, Amerikahäuser ins Leben - auch in München. Hier entwickelte sich das Amerikahaus bald zu einer der aktivsten US-amerikanischen Kultureinrichtungen in Europa. Wie sah die Arbeit dieser Institution in ihrer Anfangszeit konkret aus und an welchem Demokratie-Verständnis orientierte sie sich? Erfahren Sie bei einem Besuch (im Interimsquartier in der Barer Straße) mehr über diese Institution und ihren Beitrag zur Demokratisierung der deutschen Nachkriegsgesellschaft.&lt;/p&gt; &lt;p&gt;In Kooperation mit dem Amerikahaus.&lt;/p&gt; 
DTSTART:20191113T190000
DTEND:20191113T203000
LOCATION:Amerikahaus, Barer Str. 19a
ORGANIZER:MVHS München Mitte   
END:VEVENT
END:VCALENDAR