BEGIN:VCALENDAR
VERSION:2.0
PRODID:-//Stadtgeschichte München//DE
CALSCALE:GREGORIAN
BEGIN:VEVENT
UID:17974@stadtgeschichte-muenchen.de
SUMMARY:Engel, Putti und ein Bengel
DESCRIPTION:&lt;p&gt;Eine große Abordnung an Engeln ist in München eingeschwebt. Manche gehören fest zum Bestand der Stadtgeschichte, wie der Erzengel Michael, der am Eingang der gleichnamigen Kirche das Böse bekämpft. An einem anderen Ort, dem Singlspielerhaus, schenkt man ihm weniger Beachtung. In der Asamkirche lachen, träumen, weinen Putti, die weltliche, verspielte Variante der Himmelsboten. Der münchnerischste aller Münchner Engel kommt natürlich auch zu Wort: Aloisius Hingerl.&lt;/p&gt; 
DTSTART:20191201T140000
DTEND:20191201T160000
LOCATION:Theatinerkirche, Theatinerstr. 22 (vor dem Hauptportal)
ORGANIZER:MVHS München Mitte   
END:VEVENT
END:VCALENDAR