BEGIN:VCALENDAR
VERSION:2.0
PRODID:-//Stadtgeschichte München//DE
CALSCALE:GREGORIAN
BEGIN:VEVENT
UID:17992@stadtgeschichte-muenchen.de
SUMMARY:Das neue Philologicum
DESCRIPTION:&lt;p&gt;Einst auf elf Standorte in sechs verschiedenen Gebäuden verteilt, wird die gesamte Literatur der Fakultät für Sprach- und Literaturwissenschaften der LMU - ein Bestand von über 420.000 Medien - nun in der Ludwigstraße 25 vereint: in der neuen Fachbibliothek Philologicum. Besichtigen Sie im Rahmen einer Führung die vom Bregenzer Architekturbüro Fink Thurnher und Cukrowicz Nachbaur entworfene Bibliothek, die, mit modernster Technik ausgestattet, über vier Doppelstockwerke nicht nur Büchern und anderen Medien Platz bietet, sondern auch ca. 700 Arbeitsplätze für Studierende. Bitte vor Beginn der Veranstaltung Taschen und Mäntel in Schließfächern unterbringen.&lt;/p&gt; 
DTSTART:20200219T163000
DTEND:20200219T180000
LOCATION:wird mitgeteilt
ORGANIZER:MVHS München Mitte   
END:VEVENT
END:VCALENDAR