BEGIN:VCALENDAR
VERSION:2.0
PRODID:-//Stadtgeschichte München//DE
CALSCALE:GREGORIAN
BEGIN:VEVENT
UID:18046@stadtgeschichte-muenchen.de
SUMMARY:Die bayerischen Könige
DESCRIPTION:&lt;p&gt;Mit Weitsicht und Schaffenskraft haben sie aus dem kleinen München eine Stadt voll Schönheit und Kultur gemacht. Laßt\'s eich erzählen vom Max I., die G\'schichten von unserem König Ludwig I., der Theresienwies\'n, dem Riesenweib und der betörenden Lola. Hört\'s vom Märchenkönig und seinem langen Ritt, vom Otto auf der Münz\'n und von unserem Prinzregenten - und nicht zu vergessen vom Max II. und Ludwig III.: Lernt\'s eure bayrischen Könige mit hintersinnigen G\'schichten und der historischen Geschichte kennen.&lt;/p&gt; 
DTSTART:20100601T140000
DTEND:20100601T160000
LOCATION:Max-Joseph-Denkmal, Max-Joseph-Platz
ORGANIZER:MVHS München Mitte   
END:VEVENT
END:VCALENDAR