BEGIN:VCALENDAR
VERSION:2.0
PRODID:-//Stadtgeschichte München//DE
CALSCALE:GREGORIAN
BEGIN:VEVENT
UID:18048@stadtgeschichte-muenchen.de
SUMMARY:Haidhauser G\'schichten - Wer zoid d\'Zech?
DESCRIPTION:&lt;p&gt;Wer weiß denn noch, dass das Dorf Haidhausen viel älter als München ist? Von der Schmach der Münchner Bäcker und dem guten Haidhauser Brot? Dass das Dorf oft für die Stadt München bluten musste? Dass durch die Tram eine geregelte Arbeit für Frauen möglich wurde? Und was wäre das alles ohne den guten Geist von Haidhausen? Begleiten Sie uns durch das ehemalige Dorf vor den Toren Münchens und erfahren Sie mehr über das alte und junge Haidhausen mit Geschichten in bayrischer Mundart.&lt;/p&gt; 
DTSTART:20191129T130000
DTEND:20191129T150000
LOCATION:Wiener Platz, am Maibaum
ORGANIZER:MVHS München Mitte   
END:VEVENT
END:VCALENDAR