BEGIN:VCALENDAR
VERSION:2.0
PRODID:-//Stadtgeschichte München//DE
CALSCALE:GREGORIAN
BEGIN:VEVENT
UID:18059@stadtgeschichte-muenchen.de
SUMMARY:BMW Group .Classic - neuer Standort mit historischen Wurzeln
DESCRIPTION:&lt;p&gt;In den ehemaligen Produktionshalen des ersten BMW-Werks, heute ein architektonisch geschütztes Denkmal, befindet sich die historische Fahrzeugsammlung, das BMW Group Archiv, das BMW Group Classic Center und die historische Werkstatt. Die exklusive Führung zeigt die faszinierende Geschichte der verschiedenen Marken der BMW Group Classic und führt durch die der Öffentlichkeit sonst nicht zugängliche historische Fahrzeugsammlung.&lt;/p&gt; &lt;p&gt;&amp;nbsp;&lt;/p&gt; 
DTSTART:20191012T163000
DTEND:20191012T173000
LOCATION:BMW Group Classic, Empfangsbereich· Moosacher Str. 66
ORGANIZER:MVHS München Nord
END:VEVENT
END:VCALENDAR