BEGIN:VCALENDAR
VERSION:2.0
PRODID:-//Stadtgeschichte München//DE
CALSCALE:GREGORIAN
BEGIN:VEVENT
UID:1806@stadtgeschichte-muenchen.de
SUMMARY:Wanderung zur Windkraftanlage auf dem Müllberg Großlappen in Fröttmaning
DESCRIPTION:&lt;p&gt;&amp;nbsp;&lt;/p&gt; &lt;p&gt;Windr&amp;auml;der waren in Europa, Asien und Amerika bis weit ins 19. Jahr&amp;not;hundert hinein eine der wichtigsten Energiequellen. Seit 1999 hat auch M&amp;uuml;nchen eine eigene Windkraftanlage auf dem M&amp;uuml;llberg Gro&amp;szlig;lappen in Fr&amp;ouml;ttmaning. Sie erzeugt pro Jahr durchschnitt&amp;not;lich 2.200 MWh &amp;Ouml;kostrom f&amp;uuml;r 1.000 M&amp;uuml;nchner Haushalte. Wir werden in Begleitung eines Experten der SW//M den M&amp;uuml;llberg besteigen und interessante Einzelheiten &amp;uuml;ber die Windkraftanlage erfahren.&lt;/p&gt; &lt;p&gt;&amp;nbsp;&lt;/p&gt;
DTSTART:20120404T140000
DTEND:20120404T160000
LOCATION:auf dem Parkplatz (Ecke Beling-/ Kurt Landauer Weg), Heilig-Kreuz-Kirche (München-Fröttmaning); U6 bis Fröttmaning oder Bus 293 bis Wallnerstraße 
ORGANIZER:DGB-Bildungswerk Bayern e.V. Region München
END:VEVENT
END:VCALENDAR