BEGIN:VCALENDAR
VERSION:2.0
PRODID:-//Stadtgeschichte München//DE
CALSCALE:GREGORIAN
BEGIN:VEVENT
UID:18063@stadtgeschichte-muenchen.de
SUMMARY:Knorr-Bremse
DESCRIPTION:&lt;p&gt;Der Knorr-Bremse-Konzern ist der weltweit führende Hersteller von Bremssystemen und Anbieter weiterer Subsysteme für Schienen-und Nutzfahrzeuge. Als technologischer Schrittmacher treibt Knorr-Bremse seit über 110 Jahren maßgeblich Entwicklung, Produktion, Vertrieb und Service moderner Bremssysteme voran. 2016 erwirtschaftete der Konzern einen Umsatz von rund 5,5 Mrd. Euro und beschäftigte weltweit ca. 25.000 Mitarbeiter.&lt;/p&gt; &lt;p&gt;Bei dieser Führung werden das Knorr-Bremse Museum und das neue Technologiezentrum gezeigt&lt;/p&gt; 
DTSTART:20200130T140000
DTEND:20200130T163000
LOCATION:Knorr-Bremse,  Pforte West, Am Oberwiesenfeld 10
ORGANIZER:MVHS München Nord
END:VEVENT
END:VCALENDAR