BEGIN:VCALENDAR
VERSION:2.0
PRODID:-//Stadtgeschichte München//DE
CALSCALE:GREGORIAN
BEGIN:VEVENT
UID:18068@stadtgeschichte-muenchen.de
SUMMARY:Kaffeerösterei H. Schneid oHG
DESCRIPTION:&lt;p&gt;Kaffeerösten live erleben. Wie aus der Frucht des Kaffeestrauchs der Kaffee in der Tasse wird, zeigt Röstmeister Manfred Schneider. Die Langzeitröstung auf einem Trommelröster wird vorgeführt. Eine Tasse frisch gerösteter Kaffee und hausgemachter Kuchen schließen den Besuch ab.&lt;/p&gt; 
DTSTART:20200124T160000
DTEND:20200124T183000
LOCATION:Kaffeerösterei H. Schneid, Feldmochinger Str. 378
ORGANIZER:MVHS München Nord
END:VEVENT
END:VCALENDAR