BEGIN:VCALENDAR
VERSION:2.0
PRODID:-//Stadtgeschichte München//DE
CALSCALE:GREGORIAN
BEGIN:VEVENT
UID:18074@stadtgeschichte-muenchen.de
SUMMARY:Das Forum am Luitpold - ein Treffpunkt der Generationen
DESCRIPTION:&lt;p&gt;Das Mehrgenerationenhaus Forum am Luitpold wurde von der Stiftung Pfennigparade erbaut und 2016 eröffnet. Neben den Räumen der MVHS im Erdgeschoss sind hier Wohnformeh für ältere Menschen mit und ohne Behinderung, ein integratives Kinderhaus, Arztpraxen, ein Cafe und eine offene Kreativ-Werkstatt beheimatet. Es werden vielfältige Begegnungen ermöglicht: zwischen Alt und Jung, Menschen mit und ohne Behinderung, Bewohnern und Besuchern. Bei der Führung durch das Haus werden auch Möglichkeiten für ehrenamtliches Engagement - z.B. im Bewohnertreff des Hauses - vorgestellt.&lt;/p&gt; &lt;p&gt;In Kooperation mit der Stiftung Pfennigparade.&lt;/p&gt; &lt;p&gt;Wenn Sie eine Überseztung in die Deutsche Gebärdensprache wünschen, senden Sie bitte eine E-Mail an barrierefrei-lernen@mvhs.de.&lt;/p&gt; 
DTSTART:20191114T170000
DTEND:20191114T183000
LOCATION:MVHS am Scheidplatz, Belgradstr. 108 
ORGANIZER:MVHS München Nord
END:VEVENT
END:VCALENDAR