BEGIN:VCALENDAR
VERSION:2.0
PRODID:-//Stadtgeschichte München//DE
CALSCALE:GREGORIAN
BEGIN:VEVENT
UID:18090@stadtgeschichte-muenchen.de
SUMMARY:Die McGraw-Kaserne als Zentrum US-amerikanischer Präsenz in München
DESCRIPTION:&lt;p&gt;Mit Reichszeugmeisterei, Reichsautozug Deutschland und Hilfszug Bayern unterhielt die NSDAP wichtige Parteieinrichtungen an der Tegernseer Landstraße. Nach dem Zweiten Weltkrieg beschlagnahmte die US-Armee das Areal, benannte es nach dem gefallenen US-Soldaten Francis McGraw und nutzte Gebäude und Stellflächen bis 1992. Neben Büros und Fuhrparks barg die McGraw-Kaserne Einkaufsmärkte, ein Kino und eine Dependance der University of Maryland. Der Spaziergang bewegt sich entlang dieser spannenden Nutzungsgeschichte und dokumentiert die Rolle der Amerikaner als Aufbauhelfer der Demokratie.&lt;/p&gt; 
DTSTART:20191025T150000
DTEND:20191025T170000
LOCATION:am Parkplatz, vor dem Gebäude, St.-Quirin-Platz 1
ORGANIZER:MVHS München Ost
END:VEVENT
END:VCALENDAR