BEGIN:VCALENDAR
VERSION:2.0
PRODID:-//Stadtgeschichte München//DE
CALSCALE:GREGORIAN
BEGIN:VEVENT
UID:18098@stadtgeschichte-muenchen.de
SUMMARY:Der Wat-Thai-Tempelpflege des Buddhismus
DESCRIPTION:&lt;p&gt;Ganz in der Nähe des Giesinger Bahnhofs befindet sich der Sitz eines seit 1991 bestehenden Vereins, dem derzeit etwa 600 Mitglieder angehören. Seine Aufgabe ist die Pflege und Erhaltung der buddhistisch geprägten Kultur Thailands in München. Mittelpunkt für die bei uns_ lebenden Thailänderinnen und Thailänder ist das Wat - das Kloster mit seinen Mönchen. Hier finden sie geistlichen Beistand urid heimische Lebensformen. Freiwillige Spenden für den vorbereiteten Imbiss kommen der Einrichtung zugute.&lt;/p&gt; 
DTSTART:20200124T180000
DTEND:20200124T200000
LOCATION:Wat-Thai-Tempel · Bad-Dürkheimer-Str. 14
ORGANIZER:MVHS München Ost
END:VEVENT
END:VCALENDAR