BEGIN:VCALENDAR
VERSION:2.0
PRODID:-//Stadtgeschichte München//DE
CALSCALE:GREGORIAN
BEGIN:VEVENT
UID:18103@stadtgeschichte-muenchen.de
SUMMARY:Giesinger Gespräche - die Zukunft von Bürgerdialog und -beteiligung
DESCRIPTION:&lt;p&gt;Giesing ~at in den letzten Jahren eine enorme Entwicklung genommen. Auf ehemaligen Industrie-Arealen (Agfa, Paulaner, Osram) sind neue Stadtquartiere entstanden bzw im Entstehen. Im Zuge des Sanierungsprojekts „Soziale Stadt&quot; wurden Grünflächen und Stadträume neu gestaltet, Kulturprojekte neu entwickelt. Im Rahmen der Sozialen Stadt gab es in den letzten Jahren-auch stets einen regen Austausch mit bürgerschaftlichen Gruppen im Quartier Wie kann man die Beteiligung von Bürgerinnen und Bürgern auch\' künft ig_sicherstellen und weiter verbessern ?&lt;/p&gt; &lt;p&gt;Vertreterinnen und Vertreter der Bezirksausschüsse BA 17 und 18 der LH München und örtlicher Organisationen/Moderatior:&amp;nbsp;Winfried Eckardt, MVHS&lt;/p&gt; 
DTSTART:20190924T190000
DTEND:20190924T210000
LOCATION:MVHS · Severinstr. 6
ORGANIZER:MVHS München Ost
END:VEVENT
END:VCALENDAR