BEGIN:VCALENDAR
VERSION:2.0
PRODID:-//Stadtgeschichte München//DE
CALSCALE:GREGORIAN
BEGIN:VEVENT
UID:18114@stadtgeschichte-muenchen.de
SUMMARY:En Stück Bogenhausen
DESCRIPTION:&lt;p&gt;Startpunkt ist beim Friedensengel-Monument, das Ende des 19. Jahrhunderts auf der Prinzregent-Luitpold-Terrasse errichtet wurde. In der Möhlstraße entstanden nach der Eingemeindung Bogenhausens 1892 die ersten Villen namhafter Bauherren, darunter auch die etlicher jüdischer Familien. Auf dem Rückweg durch die Maria-Theresia-Straße sind imposante Villen zu bestaunen, die heute größtenteils denkmalgeschützt sind. Ein Rundgang mit Geschichte(n) und großbürgerlichem Flair.&lt;/p&gt; 
DTSTART:20191025T140000
DTEND:20191025T160000
LOCATION:Friedensengel (am Monument)
ORGANIZER:MVHS München Ost
END:VEVENT
END:VCALENDAR