BEGIN:VCALENDAR
VERSION:2.0
PRODID:-//Stadtgeschichte München//DE
CALSCALE:GREGORIAN
BEGIN:VEVENT
UID:18125@stadtgeschichte-muenchen.de
SUMMARY:Stammtisch der Erinnerungen für GiesingER:
DESCRIPTION:&lt;p&gt;Was auf den ersten Blick wie ein barockes Kloster daherkommt, , wurde vor genau 125 Jahren tatsächlich als sogenanntes Pfründnerhaus für arme und alte Münchnerinnen und Münchner gegründet. Sein Architekt, Carl von Hocheder, war ein Architekturstar seiner Zeit. Er hat unter anderem das Müllersche Volksbad entworfen. Heute befinden sich auf dem Gelände vielfältige Sozial-und Bildungseinrich- tungen: Kindertageszentrum,J ugendamt, Volkshochschuleu nd Al- 3 te[lheim.&lt;/p&gt; 
DTSTART:20191021T143000
DTEND:20191021T163000
LOCATION:MÜNCHENSTIFT Haus St. Martin · St.-Martin-Str. 34
ORGANIZER:MVHS München Ost
END:VEVENT
END:VCALENDAR